BEGIN:VCALENDAR
VERSION:2.0
PRODID:-//WDET 101.9 FM - ECPv6.15.15//NONSGML v1.0//EN
CALSCALE:GREGORIAN
METHOD:PUBLISH
X-WR-CALNAME:WDET 101.9 FM
X-ORIGINAL-URL:https://dev.wdet.org
X-WR-CALDESC:Events for WDET 101.9 FM
REFRESH-INTERVAL;VALUE=DURATION:PT1H
X-Robots-Tag:noindex
X-PUBLISHED-TTL:PT1H
BEGIN:VTIMEZONE
TZID:America/New_York
BEGIN:DAYLIGHT
TZOFFSETFROM:-0500
TZOFFSETTO:-0400
TZNAME:EDT
DTSTART:20210314T070000
END:DAYLIGHT
BEGIN:STANDARD
TZOFFSETFROM:-0400
TZOFFSETTO:-0500
TZNAME:EST
DTSTART:20211107T060000
END:STANDARD
BEGIN:DAYLIGHT
TZOFFSETFROM:-0500
TZOFFSETTO:-0400
TZNAME:EDT
DTSTART:20220313T070000
END:DAYLIGHT
BEGIN:STANDARD
TZOFFSETFROM:-0400
TZOFFSETTO:-0500
TZNAME:EST
DTSTART:20221106T060000
END:STANDARD
BEGIN:DAYLIGHT
TZOFFSETFROM:-0500
TZOFFSETTO:-0400
TZNAME:EDT
DTSTART:20230312T070000
END:DAYLIGHT
BEGIN:STANDARD
TZOFFSETFROM:-0400
TZOFFSETTO:-0500
TZNAME:EST
DTSTART:20231105T060000
END:STANDARD
BEGIN:DAYLIGHT
TZOFFSETFROM:-0500
TZOFFSETTO:-0400
TZNAME:EDT
DTSTART:20240310T070000
END:DAYLIGHT
BEGIN:STANDARD
TZOFFSETFROM:-0400
TZOFFSETTO:-0500
TZNAME:EST
DTSTART:20241103T060000
END:STANDARD
BEGIN:DAYLIGHT
TZOFFSETFROM:-0500
TZOFFSETTO:-0400
TZNAME:EDT
DTSTART:20250309T070000
END:DAYLIGHT
BEGIN:STANDARD
TZOFFSETFROM:-0400
TZOFFSETTO:-0500
TZNAME:EST
DTSTART:20251102T060000
END:STANDARD
BEGIN:DAYLIGHT
TZOFFSETFROM:-0500
TZOFFSETTO:-0400
TZNAME:EDT
DTSTART:20260308T070000
END:DAYLIGHT
BEGIN:STANDARD
TZOFFSETFROM:-0400
TZOFFSETTO:-0500
TZNAME:EST
DTSTART:20261101T060000
END:STANDARD
END:VTIMEZONE
BEGIN:VEVENT
DTSTART;TZID=America/New_York:20251015T180000
DTEND;TZID=America/New_York:20251015T203000
DTSTAMP:20260421T163611
CREATED:20251009T202630Z
LAST-MODIFIED:20251009T202630Z
UID:222870-1760551200-1760560200@dev.wdet.org
SUMMARY:Detroit Mayoral Debate Watch Party with Citizen Detroit
DESCRIPTION:Join Citizen Detroit\, neighbors\, community leaders\, and friends as the Detroit mayoral candidates take the stage. \nWatch the televised debate\, then Citizen Detroit will convene a quick discussion to share takeaways and talk about what matters most in our neighborhoods. \nWEDNESDAY\, OCTOBER 15\, 2025\nUFO Bar\, 2110 Trumbull\, Detroit\, MI 48216 \n\n6:00-8:30 PM\nStreet parking only\n\nRegister online: http://bit.ly/4gVJ6ij\nAdmission is FREE\, but reservations are required. \n\nLight refreshments\nCash bar\nDebate Bingo\nNonpartisan voter information\n\nIn partnership with: \n\nWDET 101.9 FM\nMichigan League of Conservation Voters\n\n 
URL:https://dev.wdet.org/event/detroit-mayoral-debate-watch-party-with-citizen-detroit/
LOCATION:UFO Bar\, 2110 Trumbull\, Detroit\, MI\, 48216\, United States
CATEGORIES:Conversation
ATTACH;FMTTYPE=image/jpeg:https://dev.wdet.org/wp-content/uploads/2025/10/a7b08fb2-c206-46a1-ad27-87f3c61f82e0.jpg
ORGANIZER;CN="Citizen Detroit":MAILTO:info@citizendetroit.org
END:VEVENT
BEGIN:VEVENT
DTSTART;TZID=America/New_York:20230228T110000
DTEND;TZID=America/New_York:20230228T130000
DTSTAMP:20260421T163611
CREATED:20230202T164839Z
LAST-MODIFIED:20230208T191349Z
UID:145925-1677582000-1677589200@dev.wdet.org
SUMMARY:WDET Hamtramck Women of Color Engagement Event
DESCRIPTION:WDET is hosting an engagement event at The Social Loft in Hamtramck on February 28th! We invite you and a friend to chat with WDET reporters Sascha Raiyn\, Nargis Rahman and Tia Graham\, WDET CultureShift producer/host. \n11 a.m. to 1:00 p.m. at The Social Loft\, 3002 Carpenter Ave\, Hamtramck\, MI\, 48212 \nTo reserve your spot\, please visit us on Eventbrite.
URL:https://dev.wdet.org/event/wdet-hamtramck-women-of-color-engagement-event/
LOCATION:The Social House\, 3002 Carpenter Ave\, Hamtramck\, MI\, 48212\, United States
CATEGORIES:Conversation
ATTACH;FMTTYPE=image/jpeg:https://dev.wdet.org/wp-content/uploads/2023/02/eventbrite-2160-x-1080-2.jpg
END:VEVENT
BEGIN:VEVENT
DTSTART;TZID=America/New_York:20221115T110000
DTEND;TZID=America/New_York:20221115T123000
DTSTAMP:20260421T163611
CREATED:20221104T151203Z
LAST-MODIFIED:20221104T181456Z
UID:141532-1668510000-1668515400@dev.wdet.org
SUMMARY:WDET Dearborn Women of Color Engagement Event
DESCRIPTION:  \nWDET is hosting an engagement event at Qahwah House in Dearborn with Women of Color in Dearborn. We invite you and a friend to chat with WDET reporters Sascha Raiyn\, Nargis Rahman\, and Tia Graham\, WDET Culture Shift Producer/Host. \nNovember 15 11 a.m. to 12:30 p.m. at Qahwah House in Dearborn\, 6655 Schaefer Rd\, Dearborn\, MI 48126.
URL:https://dev.wdet.org/event/wdet-dearborn-women-of-color-engagement-event/
LOCATION:Qahwah House\, 6655 Schaefer Rd\, Dearborn\, MI\, 48126\, United States
CATEGORIES:Conversation
ATTACH;FMTTYPE=image/jpeg:https://dev.wdet.org/wp-content/uploads/2022/11/thumbnail_eventbrite-2160-x-1080.jpg
END:VEVENT
END:VCALENDAR