BEGIN:VCALENDAR
VERSION:2.0
PRODID:-//WDET 101.9 FM - ECPv6.15.15//NONSGML v1.0//EN
CALSCALE:GREGORIAN
METHOD:PUBLISH
X-WR-CALNAME:WDET 101.9 FM
X-ORIGINAL-URL:https://dev.wdet.org
X-WR-CALDESC:Events for WDET 101.9 FM
REFRESH-INTERVAL;VALUE=DURATION:PT1H
X-Robots-Tag:noindex
X-PUBLISHED-TTL:PT1H
BEGIN:VTIMEZONE
TZID:America/New_York
BEGIN:DAYLIGHT
TZOFFSETFROM:-0500
TZOFFSETTO:-0400
TZNAME:EDT
DTSTART:20220313T070000
END:DAYLIGHT
BEGIN:STANDARD
TZOFFSETFROM:-0400
TZOFFSETTO:-0500
TZNAME:EST
DTSTART:20221106T060000
END:STANDARD
BEGIN:DAYLIGHT
TZOFFSETFROM:-0500
TZOFFSETTO:-0400
TZNAME:EDT
DTSTART:20230312T070000
END:DAYLIGHT
BEGIN:STANDARD
TZOFFSETFROM:-0400
TZOFFSETTO:-0500
TZNAME:EST
DTSTART:20231105T060000
END:STANDARD
BEGIN:DAYLIGHT
TZOFFSETFROM:-0500
TZOFFSETTO:-0400
TZNAME:EDT
DTSTART:20240310T070000
END:DAYLIGHT
BEGIN:STANDARD
TZOFFSETFROM:-0400
TZOFFSETTO:-0500
TZNAME:EST
DTSTART:20241103T060000
END:STANDARD
BEGIN:DAYLIGHT
TZOFFSETFROM:-0500
TZOFFSETTO:-0400
TZNAME:EDT
DTSTART:20250309T070000
END:DAYLIGHT
BEGIN:STANDARD
TZOFFSETFROM:-0400
TZOFFSETTO:-0500
TZNAME:EST
DTSTART:20251102T060000
END:STANDARD
BEGIN:DAYLIGHT
TZOFFSETFROM:-0500
TZOFFSETTO:-0400
TZNAME:EDT
DTSTART:20260308T070000
END:DAYLIGHT
BEGIN:STANDARD
TZOFFSETFROM:-0400
TZOFFSETTO:-0500
TZNAME:EST
DTSTART:20261101T060000
END:STANDARD
END:VTIMEZONE
BEGIN:VEVENT
DTSTART;TZID=America/New_York:20251212T180000
DTEND;TZID=America/New_York:20251213T010000
DTSTAMP:20260419T174921
CREATED:20251018T090001Z
LAST-MODIFIED:20251211T210026Z
UID:223610-1765562400-1765587600@dev.wdet.org
SUMMARY:Colors of Detroit 2025
DESCRIPTION:Join us on December 12 for the second Colors of Detroit\, an unforgettable evening celebrating the city’s creativity\, culture\, and connection.\nProceeds benefit WDET 101.9 FM\, Detroit’s public radio station and the Concert of Colors\, Detroit’s global music festival. \nA historic setting\nThe celebration takes place at the Berry Gordy Estate in Boston Edison\, the former home of Motown founder Berry Gordy and now owned by renowned arts consultant Alan Brown. \nThis setting offers a rare chance to experience one of Detroit’s most iconic cultural landmarks up close. \nLive music and performances\nEnjoy an exclusive live broadcast of The Don Was Motor City Playlist with WDET’s Ann Delisi\, featuring legendary producer and artist Don Was. \nThe evening also includes a performance by the Amen Ra African Drum and Dance Group\, followed by Detroit’s finest DJs keeping the dance floor moving late into the night. \nMore entertainment not to miss!\nMike Latulippe\nRyan Patrick Hooper hosting Motown Karaoke\nDetroit DJs\n– Dave Buick\n– KESSWA\n– Scott Zacharias \nFood\, flavor\, and community\nSavor a strolling dinner crafted by some of Detroit’s most celebrated chefs while mingling with fellow supporters\, artists\, and community leaders. \nExplore a silent auction filled with one-of-a-kind experiences and local treasures. \nThis year’s chefs \nGajiza Dumplings: Jasmine Haskins\, LEÑA: Lena Sareini\, Oak & Reel: Jared Gadbaw\, Warda Patisserie: Warda Bouguettaya\, The Kitchenista: Angela Davis\n \nSupporting Detroit’s creative heartbeat\nEvery ticket helps sustain the music\, storytelling\, and cultural programming that make Detroit’s creative community thrive. \nThe Concert of Colors brings the world’s music to Detroit\, uniting audiences through sound and culture. It’s one of the nation’s largest and longest-running free global music festivals. \nWDET 101.9 FM\, Detroit’s listener-supported public radio station\, delivers trusted news\, diverse music programming and conversations from around metro Detroit and the world. \nSilent auction\nThis year’s silent auction is better than ever\, featuring local artists\, exclusive experiences and more. The auction is live now and anyone can participate. Get your bids in early on your favorite items. The auction closes Sunday at 4 p.m. \n \n \nTicket levels\n\nSOLD OUT – VIP Mingle hosted by Don Was and Ann Delisi\n6 p.m. to 1 a.m. \nIncludes access to the entire evening of events (VIP Mingle\, Don Was Motor City Playlist live broadcast and Afterglow Dance Party) \n$500 per ticket – sold out \n\n\nColors of Detroit VIP \n7 p.m. to 1 a.m. \nIncludes access to the on-site live broadcast of the Don Was Motor City Playlist with Don Was and WDET’s Ann Delisi from 8–10 p.m.\, and access to the Afterglow Dance Party from 10 p.m. to 1 a.m. \n$350 per ticket \n\n\nSOLD OUT – Afterglow Dance Party\n10 p.m. to 1 a.m. \nA dance party with WDET DJs in the ballroom of the Berry Gordy Estate — where Motown legends would dance and party! Includes access to the pool house and main floor of the estate\, silent auction\, light open bar\, and light bites. \n$50 per ticket – sold out \n\nGet your tickets online »\nThank you to our sponsors:\nMulti-platinum sponsors:\n\nEthan and Gretchen Gonzales Davidson\nErica and Ralph Gerson\nTom Gores Family Foundation\nFramework E\n\nPlatinum sponsors:\n\nJennifer Gilbert\nArn and Nancy Tellem\nTito’s Handmade Vodka\n\nGold sponsors:\n\nMichelle and Ahmad Chebbani\nCoup D’état\nLeela and Peter Hamp\nDon and Anaïs Hicks\nRomeo Okwara\nThird Man Records\nSarah Winkler and Simon Leopold\n\nSilver sponsors:\n\nACCESS\nBuffalo Prescott\nChristine and David Colman\nAnthony and JJ Curis\nJoan and Bob Epstein\nPenny and Ken Fischer\nElyse and David Foltyn\nCorey and Michelle Harris\nMarx Layne\nMeijer Rivertown Market Detroit\nNKSK Events & Production\nJosh Opperer and Rachel Opperer\nAdrienne Roberts and Rich Haddad\nThomas Sebold and Associates\nEllie Serras\nHolly and Matt Rosetti\nMary Zatina and Kevin Prihod
URL:https://dev.wdet.org/event/colors-of-detroit/
LOCATION:Berry Gordy Estate\, Boston Edison\, Detroit\, MI\, 48202\, United States
CATEGORIES:Fundraiser
ATTACH;FMTTYPE=image/png:https://dev.wdet.org/wp-content/uploads/2025/10/CoD-New-logo.png
END:VEVENT
BEGIN:VEVENT
DTSTART;TZID=America/New_York:20251117T183000
DTEND;TZID=America/New_York:20251117T210000
DTSTAMP:20260419T174921
CREATED:20251014T120027Z
LAST-MODIFIED:20251104T215813Z
UID:223051-1763404200-1763413200@dev.wdet.org
SUMMARY:Ann Delisi's Essential Cooking: Leña
DESCRIPTION:This event is sold out! \nJoin us for the next installment of Ann Delisi’s Essential Cooking at Leña on Monday\, November 17! Chefs Mike Conrad\, Marcello Molteni and Lena Sareini will prepare a special 5-course meal with beverage pairings for guests to enjoy\, showcasing their culinary journey inspired by Spain’s Catalan and Basque regions. \nLocated in Detroit’s Brush Park neighborhood\, Leña’s menu seamlessly blends the vibrant traditions of Spanish cuisine with the freshest flavors of the Midwest. The restaurant partners with Michigan-based purveyors like Creekstone Farms\, Marrow Detroit Provisions\, Motor City Seafood and Fisheye Farms. Since opening in 2024\, Leña has garnered acclaim for its commitment to sustainability and innovative take on Spanish cuisine. They’re now graciously opening their doors to WDET listeners for an intimate evening of food and music. \nJoin us for an evening of community\, culture and delicious flavors\, all while supporting public radio in Detroit. \nTickets are $200 and directly support WDET and Leña. Ticket price includes food and a beverage pairing. Additional beverages will be available for purchase. \nThis event is sold out!\n************************************************************************************************************* \nDue to the nature of this event\, there will be no menu substitutions. If you have a severe food allergy that needs accommodating\, please contact Leña directly. \nThere is one seating for this event: 7 p.m. Doors will open at 6:30 p.m. \nSeating will be limited and may be assigned if necessary. \nLeña is wheelchair accessible.
URL:https://dev.wdet.org/event/ann-delisis-essential-cooking-lena/
LOCATION:Leña\, 2720 Brush Street\, Detroit\, MI\, 48201\, United States
CATEGORIES:Fundraiser
ATTACH;FMTTYPE=image/jpeg:https://dev.wdet.org/wp-content/uploads/2025/10/Essential-Cooking-Lena-Featured-image-v2.jpg
END:VEVENT
BEGIN:VEVENT
DTSTART;TZID=America/New_York:20251025T180000
DTEND;TZID=America/New_York:20251025T233000
DTSTAMP:20260419T174921
CREATED:20251009T154404Z
LAST-MODIFIED:20251016T181611Z
UID:222813-1761415200-1761435000@dev.wdet.org
SUMMARY:Halloween Monster Bash for WDET
DESCRIPTION:Get ready to howl at the moon and dance like a monster at the Halloween Monster Bash – it’s going to be a spooky good time! \nGet your best costumes ready for a night of rock ‘n’ roll mayhem for a great cause! Join us on Saturday\, October 25th\, at the Kuhnhenn Brewing Company Clinton Township location for our Halloween Monster Bash.  \nThe bash has a killer lineup featuring the thrilling sounds of The 3-D Invisibles\, The Amino Acids\, and F-Hole Wreckers\, all hosted by our own Jon Moshier!  \nThis event is a benefit for WDET 101.9 FM. A $20 donation gets you in the door\, with ALL proceeds going directly to support the station.  \nDoors open at 6 p.m.\, music kicks off at 7 p.m.\, and the costume contest begins at 8:30 p.m..  \nGet your tickets online.\nDon’t forget to tune into Jon’s annual Halloween radio special on Oct. 25 from 4–6 p.m.! It’s the perfect spooky soundtrack for getting ready to go to the Monster Bash. An encore performance of the radio special will air on Halloween (Friday\, Oct. 31) from 6–8 p.m.
URL:https://dev.wdet.org/event/halloween-monster-bash-for-wdet/
LOCATION:Kuhnhenn Brewing Company\, 36000 Groesbeck Highway\, Clinton Township\, MI\, 48035\, United States
CATEGORIES:Fundraiser
ATTACH;FMTTYPE=image/jpeg:https://dev.wdet.org/wp-content/uploads/2025/10/https___cdn.evbuc_.com_images_1147965623_282978847355_1_original.jpeg
END:VEVENT
BEGIN:VEVENT
DTSTART;TZID=America/New_York:20250928T170000
DTEND;TZID=America/New_York:20250928T210000
DTSTAMP:20260419T174921
CREATED:20250904T161545Z
LAST-MODIFIED:20250926T191330Z
UID:219305-1759078800-1759093200@dev.wdet.org
SUMMARY:Decks on Deck featuring Waajeed and Liz Warner - SOLD OUT
DESCRIPTION:Join us on Sunday\, Sep. 28\, for “Decks on Deck” on the Detroit River. \nThe evening will feature live DJ sets from Waajeed\, host of The Boulevard\, and Liz Warner\, host of Alternate Take. \nCome join us for an evening of music\, food and drinks on this floating dance party! \nEVENT IS SOLD OUT\nBoarding will begin at 5 p.m.\, the cruise sets off at 6 p.m. and we will deboard by 9 p.m. \nTickets are $60 each and can be purchased here. \nThis is an all-ages venue. You must bring a valid government-issued ID if you plan to purchase or consume alcohol. \nThis event will be held on the Detroit Princess Riverboat. Please dress according to the weather. \nAll tickets from “Decks on Deck” will directly benefit WDET. \nYour ticket will include light bites provided by Mongers’ Provisions\, and a cash bar is available. \nSupported by:
URL:https://dev.wdet.org/event/decks-on-deck-featuring-waajeed-and-liz-warner/
LOCATION:The Detroit Princess Riverboat\, 1 Civic Center Drive\, Detroit\, MI\, 48226\, United States
CATEGORIES:Fundraiser
ATTACH;FMTTYPE=image/jpeg:https://dev.wdet.org/wp-content/uploads/2025/09/Decks-on-Deck-Featured-Image-v2.jpg
END:VEVENT
BEGIN:VEVENT
DTSTART;TZID=America/New_York:20250721T170000
DTEND;TZID=America/New_York:20250721T203000
DTSTAMP:20260419T174921
CREATED:20250618T134631Z
LAST-MODIFIED:20250718T175906Z
UID:212223-1753117200-1753129800@dev.wdet.org
SUMMARY:The 2nd Annual Don Was Motor City Playlist Bowling Party
DESCRIPTION:Buy Tickets »\nJoin us along with hosts of the Motor City Playlist\, Don Was and Ann Delisi on Monday\, July 21st at the Garden Bowl for our second annual bowling party! This event will feature music\, food\, and bowling and has three ticketing tiers: \n\nBook your individual spot for $50. Includes an hour of bowling\, bowling shoes and a ball\, and pizza courtesy of Sgt. Pepperoni’s.\nBook a lane for your group of up to 6 for $300 (includes the above for all attendees).\nBook a VIP ticket for $500. You’ll receive the above\, drink tickets\, plus a limited edition event-exclusive bowling shirt and the chance to bowl an hour on either TEAM ANN or TEAM DON! VIP tickets are extremely limited and will be available on a first come first serve basis.\n\nBuy Tickets »\n*************************************************************************************************************** \nAdditional event information below: \nDoors for this event open at 5PM. When you arrive\, please check in at the front desk to receive your lane assignment and any additional information. \nThere are two general admission bowling times you are able to sign up for. Please note your bowling time on your ticket purchase when checking out and please respect the reservation times of your fellow bowlers. \nA cash bar will be available for all attendees. \nLanes will be assigned based on the time frame you sign up for. If you’d like to bowl on the same lane as another ticket purchaser\, please email Nicole Amine at nicole.amine@wdet.org. Please note there are six spaces per lane and we will be assigning parties to lanes to fully maximize available tickets. \nPizza will be served courtesy of Sgt. Pepperoni’s. Vegetarian options will be available. Due to the nature of this event\, we are unable to guarantee the accommodation of all dietary restrictions. We apologize for any inconvenience. \nStreet parking is recommended. \nIf you have any additional questions\, please email Nicole Amine at nicole.amine@wdet.org. \n*************************************************************************************************************** \nOn The Don Was Motor City Playlist\, Blue Note Records President and music industry powerhouse Don Was pays homage to the Motor City and the artists that inspire him. \nEach week\, Was digs deep into his music archives to curate playlists and share personal stories about the artists whose songs he features. Co-hosted by WDET’s Ann Delisi\, listeners hear commentary about Detroit and its rich musical and cultural histories. \nThis year\, the show celebrates its fourth year on Detroit’s airwaves and we hope you’ll join us to celebrate for our second year in a row at the Garden Bowl! \nBuy Tickets
URL:https://dev.wdet.org/event/the-2nd-annual-don-was-motor-city-playlist-bowling-party/
LOCATION:The Garden Bowl\, 4140 Woodward Ave\, Detroit
CATEGORIES:Fundraiser
ATTACH;FMTTYPE=image/jpeg:https://dev.wdet.org/wp-content/uploads/2025/06/Bowling_1920x1080-1.jpg
END:VEVENT
BEGIN:VEVENT
DTSTART;VALUE=DATE:20250306
DTEND;VALUE=DATE:20250317
DTSTAMP:20260419T174921
CREATED:20250303T201410Z
LAST-MODIFIED:20250310T145946Z
UID:201067-1741219200-1742169599@dev.wdet.org
SUMMARY:WDET Spring Fundraiser 2025
DESCRIPTION:Detroit Public Radio 101.9 WDET presents the 2025 Spring Fundraiser Thursday\, March 6th through Sunday\, March 16th! \nDetroit Public Radio WDET 101.9FM is a member-funded non-profit radio station in the heart of Midtown Detroit. Deeply rooted in Detroit for over 75 years\, WDET relies on members and its sponsoring businesses to power WDET’s commitment to community service\, revealing the stories\, voices and music that transcend the ordinary and connect people and Detroit. \nDuring the Spring Fundraiser\, listeners who donate within specific shows and program times will be entered into “chance to win” drawings. Listen daily\, visit wdet.org\, check your email\, and follow @wdetdetroit on Instagram to find out during which shows your donation will act as an automatic entry to win the following prizes: \n\nWeekend passes to Movement Festival 2025\, held over Memorial Day weekend\nJaZZ PAZZ bundle to the Detroit Jazz Festival\, held over Labor Day weekend\nWristbands for the Hamtramck Blowout\, held March 20-22\nVinyl records pressed at the iconic Third Man Record store and pressing plant in Detroit\nVinyl records handpicked and bundled at Found Sound in Ferndale by Modern Music host\, Jon Moshier\nDetroit Historic Society “Streets of Detroit” tour with take-home Detroit Monopoly game\nThe Vault Package\nAchatz Pies on Pi Day March 14\nGift card to Basan in District Detroit\nSuite tickets to a Pistons game\, with parking and Players Club passes\nOne-year digital subscription to the Washington Post or the New York Times\nAnd more!\n\nMembership has its benefits\, too! \nMembers power WDET and receive benefits throughout the year\, including invitations to members-only events and offers such as pre-sale tickets\, discounts\, and opportunities to attend special events. \nOne of the ways we say “thank you” when you become a member is exclusive WDET swag and experiences. You can select a thank you gift each time you make a qualifying gift of support. \nView our latest thank you gifts » \nNew members who make their first gift to WDET this Spring Fundraiser will receive a limited-time exclusive WDET water bottle (pictured below). \n \nDonate now » \nThank you to our sponsors!\n														\n															\n														\n															\n														\n															\n														\n															\n														\n															\n														\n															\n														\n															\n														\n															\n														\n															\n														\n															\n														\n															\n														\n															\n														\n															\n														\n															\n														\n															\n														\n															\n														\n															\n														\n															\n														\n															\n														\n															\n														\n															\n														\n															\n														\n															 \nAnd a special thank you to individual sponsors who donated goods and experiences for WDET’s 2025 Spring Fundraiser: \nGRETCHEN & ETHAN DAVIDSON  |  KEN FISCHER  |  RUBY DUFFIELD  |  LIZ & STUART CARTER
URL:https://dev.wdet.org/event/wdet-spring-fundraiser-2025-2/
LOCATION:On Air\, Online\, or on the WDET App
CATEGORIES:Fundraiser
ATTACH;FMTTYPE=image/jpeg:https://dev.wdet.org/wp-content/uploads/2025/03/SOAF25-Featured-Image-1280x720-1.jpg
END:VEVENT
BEGIN:VEVENT
DTSTART;TZID=America/New_York:20240722T170000
DTEND;TZID=America/New_York:20240722T210000
DTSTAMP:20260419T174921
CREATED:20240614T181301Z
LAST-MODIFIED:20240711T203316Z
UID:171487-1721667600-1721682000@dev.wdet.org
SUMMARY:Don Was Motor City Playlist 3-Year Anniversary Bowling Party
DESCRIPTION:Buy Tickets »\nJoin WDET along with hosts of the Motor City Playlist\, Ann Delisi and Don Was on July 22 at the Garden Bowl to celebrate the show’s 3 year anniversary! This event will feature music\, food\, and bowling and has three ticketing tiers: \n\nYour $50 ticket purchase includes an hour of bowling\, bowling shoes and a ball\, and pizza courtesy of Sgt. Pepperoni’s.\n*****SOLD OUT***** For the purchase of a $250 VIP ticket\, you’ll receive the above\, plus an event-exclusive bowling shirt and the chance to bowl on either TEAM ANN or TEAM DON! VIP tickets are extremely limited and will be available on a first come first serve basis. *****SOLD OUT*****\nIf you’d like to enjoy the festivities\, but would prefer not to bowl\, you’re also welcome to purchase a spectator ticket for $25\, which will include pizza.\n\nBuy Tickets »\nAdditional event information below: \nDoors for this event open at 5 p.m.. When you arrive\, please check in at the front desk to receive your lane assignment and any additional information. \nThere are three general admission bowling times you are able to sign up for. Please note your bowling time on your ticket purchase when checking out and please respect the reservation times of your fellow bowlers. \nA cash bar will be available for all attendees. \nLanes will be assigned based on the time frame you sign up for. If you’d like to bowl on the same lane as another ticket purchaser\, please email Nicole Amine at nicole.amine@wdet.org. Please note there are six spaces per lane and we will be assigning parties to lanes to fully maximize available tickets. \nPizza will be served courtesy of Sgt. Pepperoni’s. Vegetarian options will be available. Due to the nature of this event\, we are unable to guarantee the accommodation of all dietary restrictions. We apologize for any inconvenience. \nStreet parking is recommended. \nIf you have any additional questions\, please email Nicole Amine at nicole.amine@wdet.org. \n*************************************************************************************************************** \nOn The Don Was Motor City Playlist\, Blue Note Records President and music industry powerhouse Don Was pays homage to the Motor City and the artists that inspire him. \nEach week\, Was digs deep into his music archives to curate playlists and share personal stories about the artists whose songs he features. Co-hosted by WDET’s Ann Delisi\, listeners hear commentary about Detroit and its rich musical and cultural histories. \nThis year\, the show celebrates its third year on Detroit’s airwaves and we hope you’ll join us to celebrate! \n  \nTHE DON WAS MOTOR CITY PLAYLIST 3 YEAR ANNIVERSARY PARTY IS SUPPORTED BY FENDER\, KLIPSCH AND E-L-S STUDIO 3D
URL:https://dev.wdet.org/event/don-was-motor-city-playlist-3-year-anniversary-bowling-party/
LOCATION:The Garden Bowl\, 4140 Woodward Ave\, Detroit
CATEGORIES:Fundraiser
ATTACH;FMTTYPE=image/jpeg:https://dev.wdet.org/wp-content/uploads/2024/06/Bowling_FI-1-1.jpg
END:VEVENT
BEGIN:VEVENT
DTSTART;TZID=America/New_York:20240522T183000
DTEND;TZID=America/New_York:20240523T000000
DTSTAMP:20260419T174921
CREATED:20240430T185723Z
LAST-MODIFIED:20240515T200137Z
UID:167496-1716402600-1716422400@dev.wdet.org
SUMMARY:God Said Give 'Em Drum Machines - Immersive Screening at Marble Bar
DESCRIPTION:Buy Tickets »\nWashington Hill Pictures\, Marble Bar\, and WDET are joining forces to host the first-ever nightclub screening of Detroit Techno documentary God Said Give ‘Em Drum Machines: The Director’s Cut to kick off Detroit’s Techno Week festivities. \nDoors open at 6:30pm for a cocktail hour with Donna Gardner. The film screening is from 7:30-9pm\, followed by the first b2b performance between two Detroit dance music legends\, Eddie Fowlkes and Stacey “Hotwaxx” Hale. \nAll proceeds from the event will be donated to 101.9 WDET Detroit Public Radio. In God Said Give ‘Em Drum Machines\, Director Kristian R. Hill and Executive Producer Jennifer Washington shine a light on the true Black origin story of Techno music in Detroit\, and we are very excited to share this inspiring\, immersive experience with Detroit techno fans from near and far. \n**This event is ALL AGES\, and capacity is LIMITED**
URL:https://dev.wdet.org/event/god-said-give-em-drum-machines-immersive-screening-at-marble-bar/
LOCATION:Marble Bar\, 1501 Holden Street\, Detroit\, MI\, 48208\, United States
CATEGORIES:Film,Fundraiser,Music
ATTACH;FMTTYPE=image/jpeg:https://dev.wdet.org/wp-content/uploads/2024/04/MarbleBar_1920x1005update.jpg
END:VEVENT
BEGIN:VEVENT
DTSTART;TZID=America/New_York:20240314T140000
DTEND;TZID=America/New_York:20240324T150000
DTSTAMP:20260419T174921
CREATED:20240314T215525Z
LAST-MODIFIED:20240329T162724Z
UID:165027-1710424800-1711292400@dev.wdet.org
SUMMARY:WDET Spring Fundraiser 2024
DESCRIPTION:Detroit Public Radio 101.9 WDET presents the 2024 Spring Fundraiser March 15-24! \nWDET is celebrating 75 years of people-powered radio in metro Detroit. Become a member and invest in WDET’s next chapter of news\, music and conversation. \nListeners who donate during the 2024 Spring Fundraiser have a chance to be entered in drawings for a chance to win unique prizes and experiences\, including: \n\nWDET Golden Ticket valid for select events at the Majestic Complex in Detroit over the next year\nPasses to Movement 2024\nVinyl records bundle handpicked by Modern Music host Jon Moshier courtesy of Found Sound in Ferndale\, Mich.\nPair of tickets to three select concerts at Pine Knob\nPremier Pet Supply gift cards and more\n\n			Donate now »		 \nThank you to our sponsors!
URL:https://dev.wdet.org/event/wdet-spring-fundraiser-2024/
LOCATION:MI
CATEGORIES:Fundraiser
ATTACH;FMTTYPE=image/jpeg:https://dev.wdet.org/wp-content/uploads/2024/03/75years_1920x1080_R1-copy.jpg
END:VEVENT
BEGIN:VEVENT
DTSTART;TZID=America/New_York:20230908T060000
DTEND;TZID=America/New_York:20230916T235900
DTSTAMP:20260419T174921
CREATED:20230907T173614Z
LAST-MODIFIED:20230907T173614Z
UID:155645-1694152800-1694908740@dev.wdet.org
SUMMARY:2023 WDET Fall Fundraiser
DESCRIPTION:The 2023 WDET fall fundraiser happens Sept. 8-16 on 101.9 FM and streaming at wdet.org. \nSupport the shows and podcasts you love — including Detroit Today\, CultureShift\, Curiosi-D and more — with a donation and join Team DET! Your generous gift helps keep Detroit’s premier public radio station on the air. \nDonate now at wdet.org/give\, by phone at 1-800-959-9338 or by mail with a check payable to “WDET” and sending it to the address below: \nWDET 101.9\nATTN: Fall Fundraiser\nPO Box 675187\nDetroit\, Mich 48267-5187 \n“’Team DET’ is comprised of not only station employees who bring news\, programming and community events to Detroit\, but donor membership represents the lifeblood of WDET\, says WDET general manager Mary Zatina. “This annual financial support and engagement are the main reasons why we’ve been able to continue to deliver news\, music and conversation for nearly 75 years. The 2023 fall fundraiser brings together our talented hosts\, reporters and staff to connect with listeners and donors. This is a reminder that they are part of WDET\, a community-based public radio station. We need their annual support for a vital WDET future.” \n“WDET is a part of the fabric of Detroit. Donors and listeners guide the news\, music\, arts and culture and conversations we air\,” says Adam Fox\, WDET program director. “WDET serves the community. What we offer is heard nowhere else. For those who value independent\, trustworthy news from NPR and locally-engaged reporters\, or those who enjoy our local activities and events like comedy shows and Essential Cooking events\, or those who listen to our expertly-curated music shows and are informed\, educated and inspired\, we ask them to give.”
URL:https://dev.wdet.org/event/2023-wdet-fall-fundraiser/
LOCATION:MI
CATEGORIES:Fundraiser
ATTACH;FMTTYPE=image/jpeg:https://dev.wdet.org/wp-content/uploads/2023/09/FallOAF-Ad-16x9-copy.jpg
END:VEVENT
END:VCALENDAR